BEGIN:VCALENDAR
VERSION:2.0
PRODID:-//Netwerk voor jou - ECPv6.15.20//NONSGML v1.0//EN
CALSCALE:GREGORIAN
METHOD:PUBLISH
X-ORIGINAL-URL:https://netwerkvoorjou.nl
X-WR-CALDESC:Events for Netwerk voor jou
REFRESH-INTERVAL;VALUE=DURATION:PT1H
X-Robots-Tag:noindex
X-PUBLISHED-TTL:PT1H
BEGIN:VTIMEZONE
TZID:Europe/Amsterdam
BEGIN:DAYLIGHT
TZOFFSETFROM:+0100
TZOFFSETTO:+0200
TZNAME:CEST
DTSTART:20240331T010000
END:DAYLIGHT
BEGIN:STANDARD
TZOFFSETFROM:+0200
TZOFFSETTO:+0100
TZNAME:CET
DTSTART:20241027T010000
END:STANDARD
BEGIN:DAYLIGHT
TZOFFSETFROM:+0100
TZOFFSETTO:+0200
TZNAME:CEST
DTSTART:20250330T010000
END:DAYLIGHT
BEGIN:STANDARD
TZOFFSETFROM:+0200
TZOFFSETTO:+0100
TZNAME:CET
DTSTART:20251026T010000
END:STANDARD
BEGIN:DAYLIGHT
TZOFFSETFROM:+0100
TZOFFSETTO:+0200
TZNAME:CEST
DTSTART:20260329T010000
END:DAYLIGHT
BEGIN:STANDARD
TZOFFSETFROM:+0200
TZOFFSETTO:+0100
TZNAME:CET
DTSTART:20261025T010000
END:STANDARD
END:VTIMEZONE
BEGIN:VEVENT
DTSTART;TZID=Europe/Amsterdam:20250712T090000
DTEND;TZID=Europe/Amsterdam:20250712T170000
DTSTAMP:20260420T145327
CREATED:20250703T111202Z
LAST-MODIFIED:20250703T111204Z
UID:6108-1752310800-1752339600@netwerkvoorjou.nl
SUMMARY:Dagje uit naar Madurodam met CNO!
DESCRIPTION:Zaterdag 12 juli gaan we een dagje uit naar Madurodam met bewoners van CNO! Hoe leuk is dat? \n\n\n\nSamen met zakenclub ‘de Ronde Tafel’ en de bewoners van de Crisis Nood Opvang (CNO) in Veenendaal gaan we een dagje uit naar Madurodam. In de CNO wonen mensen die gevlucht zijn uit landen van over de hele wereld. Zij hebben allemaal hun eigen verhaal en cultuur. Nu wonen zij tijdelijk in de CNO omdat ze bezig zijn met hun inburgeringsproces. Het dagje uit is een gelegenheid om met elkaar in contact te komen en verbinding met elkaar te zoeken. Jij kunt luisteren naar hun verhaal\, de Nederlandse taal leren en de bewoners kennis laten maken met de Nederlandse cultuur. \n\n\n\nWe verzamelen om 08.45u bij de Wageningselaan 2 in Veenendaal. Vanaf daar vertrekt de bus richting Madurodam. Tussen de middag krijg je een voucher waarmee je een lunch kunt kopen in het restaurant. Rond 17.00u zijn we weer terug in Veenendaal.  \n\n\n\nHeb jij vragen of wil je meer informatie? Stuur gerust een whatsappje naar Luuk: 06-33468910. \n\n\n\nAanmelden kan via de knop hieronder. Let op: er beperkt plek beschikbaar!
URL:https://netwerkvoorjou.nl/activiteit/dagje-uit-naar-madurodam-met-cno/
ATTACH;FMTTYPE=image/png:https://netwerkvoorjou.nl/wp-content/uploads/2025/07/Dagje-uit-naar-Madurodam-1-1.png
END:VEVENT
END:VCALENDAR