BEGIN:VCALENDAR
VERSION:2.0
PRODID:-//Netwerk voor jou - ECPv6.15.20//NONSGML v1.0//EN
CALSCALE:GREGORIAN
METHOD:PUBLISH
X-WR-CALNAME:Netwerk voor jou
X-ORIGINAL-URL:https://netwerkvoorjou.nl
X-WR-CALDESC:Events for Netwerk voor jou
REFRESH-INTERVAL;VALUE=DURATION:PT1H
X-Robots-Tag:noindex
X-PUBLISHED-TTL:PT1H
BEGIN:VTIMEZONE
TZID:Europe/Amsterdam
BEGIN:DAYLIGHT
TZOFFSETFROM:+0100
TZOFFSETTO:+0200
TZNAME:CEST
DTSTART:20240331T010000
END:DAYLIGHT
BEGIN:STANDARD
TZOFFSETFROM:+0200
TZOFFSETTO:+0100
TZNAME:CET
DTSTART:20241027T010000
END:STANDARD
BEGIN:DAYLIGHT
TZOFFSETFROM:+0100
TZOFFSETTO:+0200
TZNAME:CEST
DTSTART:20250330T010000
END:DAYLIGHT
BEGIN:STANDARD
TZOFFSETFROM:+0200
TZOFFSETTO:+0100
TZNAME:CET
DTSTART:20251026T010000
END:STANDARD
BEGIN:DAYLIGHT
TZOFFSETFROM:+0100
TZOFFSETTO:+0200
TZNAME:CEST
DTSTART:20260329T010000
END:DAYLIGHT
BEGIN:STANDARD
TZOFFSETFROM:+0200
TZOFFSETTO:+0100
TZNAME:CET
DTSTART:20261025T010000
END:STANDARD
END:VTIMEZONE
BEGIN:VEVENT
DTSTART;TZID=Europe/Amsterdam:20251001T173000
DTEND;TZID=Europe/Amsterdam:20251001T210000
DTSTAMP:20260421T101629
CREATED:20250923T092247Z
LAST-MODIFIED:20250929T075554Z
UID:6732-1759339800-1759352400@netwerkvoorjou.nl
SUMMARY:18+ skillavond - Workshop Muziektheater
DESCRIPTION:In 2026 zal Muziektheater Veenendaal de musical ‘Anastasia’ opvoeren. Anastasia is een musical over een Russische kroonprinses die vermist raakt. Aan de musical werken jongeren mee die acteren\, helpen bij het bouwen van decor\, opmaken van acteurs\, zingen in het koor en meer!   \n\n\n\nWoensdag 1 oktober komen de mensen van Muziektheater Veenendaal langs bij Markt 10 om ons een workshop over het muziektheater te geven. Zij zullen iets vertellen over de tijd/plaats waarin Anastasia zich afspeelt\, waarna wij zelf aan de slag gaan met het designen van kapsels en grime (make-up) uit die tijd. Dit doen we met papier\, potloden en verf. \n\n\n\nVoor de workshop eten we natuurlijk lekker met elkaar. We beginnen om 17.30u met eten\, dit keer staat er Ratatouille op het menu. Dat is een lekkere groenteschaal die je misschien wel kent van de Disney-film ‘Ratatouille.’  \n\n\n\nAnne-Ruth en Luuk zijn deze avond aanwezig als aanspreekpunt vanuit Netwerk voor Jou. Heb jij zin om mee te doen? Aanmelden kan via de knop hieronder!
URL:https://netwerkvoorjou.nl/activiteit/18-skillavond-workshop-muziektheater/
ATTACH;FMTTYPE=image/png:https://netwerkvoorjou.nl/wp-content/uploads/2025/09/Muziektheater-workshop.png
END:VEVENT
END:VCALENDAR